BEGIN:VCALENDAR
VERSION:2.0
PRODID:-//Association Ecole des Avocats - ECPv6.13.2.1//NONSGML v1.0//EN
CALSCALE:GREGORIAN
METHOD:PUBLISH
X-WR-CALNAME:Association Ecole des Avocats
X-ORIGINAL-URL:https://prod.test-eda-reunion-mayotte.fr
X-WR-CALDESC:Évènements pour Association Ecole des Avocats
REFRESH-INTERVAL;VALUE=DURATION:PT1H
X-Robots-Tag:noindex
X-PUBLISHED-TTL:PT1H
BEGIN:VTIMEZONE
TZID:Indian/Reunion
BEGIN:STANDARD
TZOFFSETFROM:+0400
TZOFFSETTO:+0400
TZNAME:+04
DTSTART:20180101T000000
END:STANDARD
END:VTIMEZONE
BEGIN:VEVENT
DTSTART;TZID=Indian/Reunion:20190207T140000
DTEND;TZID=Indian/Reunion:20190207T170000
DTSTAMP:20260421T063353
CREATED:20180628T124957Z
LAST-MODIFIED:20190325T085034Z
UID:5072-1549548000-1549558800@prod.test-eda-reunion-mayotte.fr
SUMMARY:Restructuring des entreprises et procédures collectives
DESCRIPTION:Niveau 2 : approfondissement des connaissances et des pratiques de la matière \nCycle prévention des entreprises et  procédures collectives : \nTheme: Restructuring d’entreprises en 2019: les outils de l’avocat\, conseil des entreprises  \n\nStratégie du Mandat ad hoc et de la conciliation\nSpécificité du  pré-pack cession\nDémystifier et comprendre la sauvegarde\n\nIntervenant : Me Jean Baron Administrateur Judiciaire 
URL:https://prod.test-eda-reunion-mayotte.fr/event/restructuring-entreprises-procedures-collectives/
LOCATION:Saint-Denis – Maison de l’Avocat\, 24 Rue Jean Cocteau\, Saint-Denis\, 97400\, Réunion
CATEGORIES:Cycle prévention des entreprises et procédures collectives
END:VEVENT
BEGIN:VEVENT
DTSTART;TZID=Indian/Reunion:20181031T083000
DTEND;TZID=Indian/Reunion:20181031T170000
DTSTAMP:20260421T063353
CREATED:20181213T112807Z
LAST-MODIFIED:20190324T175016Z
UID:5126-1540974600-1541005200@prod.test-eda-reunion-mayotte.fr
SUMMARY:Présentation de la réforme du droit des contrats
DESCRIPTION:Au programme\n\nIntroduction\nI) La conception du contrat\nII) Le contenu du contrat \nIII) Les effets du contrat\nIV) L’inexécution du contrat\n\nHoraires\nDébut : 8h30 \nPause méridionale : 12h30 à 14h \n15h30 à 16h : débats et pause \nFin : 18h
URL:https://prod.test-eda-reunion-mayotte.fr/event/presentation-de-la-reforme-du-droit-des-contrats/
LOCATION:Saint-Denis – Cour d’Appel\, 166 Rue Juliette Dodu\, Saint-Denis\, 97400\, Réunion
ATTACH;FMTTYPE=image/jpeg:https://prod.test-eda-reunion-mayotte.fr/wp-content/uploads/2018/06/banderole.jpeg
END:VEVENT
END:VCALENDAR